BEGIN:VCALENDAR
VERSION:2.0
PRODID:-//wp-events-plugin.com//7.2.3.1//EN
TZID:Europe/Paris
X-WR-TIMEZONE:Europe/Paris
BEGIN:VEVENT
UID:26@elanroller.fr
DTSTART;TZID=Europe/Paris:20180609T130000
DTEND;TZID=Europe/Paris:20180609T180000
DTSTAMP:20180523T064234Z
URL:https://www.elanroller.fr/events/challenge-fond-2/
SUMMARY:Challenge fond
DESCRIPTION:
CATEGORIES:Course
LOCATION:Saint Sébastien\,Piste\, rue de l'Ouche Quinet\, Saint Sébastien
  sur Loire\, France
GEO:47.1931441;-1.498390900000004
X-APPLE-STRUCTURED-LOCATION;VALUE=URI;X-ADDRESS=rue de l'Ouche Quinet\, Sai
 nt Sébastien sur Loire\, France;X-APPLE-RADIUS=100;X-TITLE=Saint Sébasti
 en\,Piste:geo:47.1931441,-1.498390900000004
END:VEVENT
BEGIN:VTIMEZONE
TZID:Europe/Paris
X-LIC-LOCATION:Europe/Paris
BEGIN:DAYLIGHT
DTSTART:20180325T030000
TZOFFSETFROM:+0100
TZOFFSETTO:+0200
TZNAME:CEST
END:DAYLIGHT
END:VTIMEZONE
END:VCALENDAR