BEGIN:VCALENDAR
VERSION:2.0
PRODID:-//wp-events-plugin.com//7.2.3.1//EN
TZID:Europe/Paris
X-WR-TIMEZONE:Europe/Paris
BEGIN:VEVENT
UID:27@elanroller.fr
DTSTART;TZID=Europe/Paris:20180623T130000
DTEND;TZID=Europe/Paris:20180623T180000
DTSTAMP:20180618T220036Z
URL:https://www.elanroller.fr/events/challenge-fond-3/
SUMMARY:Challenge fond
DESCRIPTION:
CATEGORIES:Course
LOCATION:Rezé\, plateau petite lande\, rue  Augustin Mouillé\, Rezé\, Fr
 ance
GEO:47.17861329999999;-1.5481346999999914
X-APPLE-STRUCTURED-LOCATION;VALUE=URI;X-ADDRESS=rue  Augustin Mouillé\, Re
 zé\, France;X-APPLE-RADIUS=100;X-TITLE=Rezé\, plateau petite lande:geo:4
 7.17861329999999,-1.5481346999999914
END:VEVENT
BEGIN:VTIMEZONE
TZID:Europe/Paris
X-LIC-LOCATION:Europe/Paris
BEGIN:DAYLIGHT
DTSTART:20180325T030000
TZOFFSETFROM:+0100
TZOFFSETTO:+0200
TZNAME:CEST
END:DAYLIGHT
END:VTIMEZONE
END:VCALENDAR