BEGIN:VCALENDAR
VERSION:2.0
PRODID:-//wp-events-plugin.com//7.2.3.1//EN
TZID:Europe/Paris
X-WR-TIMEZONE:Europe/Paris
BEGIN:VEVENT
UID:247@elanroller.fr
DTSTART;TZID=Europe/Paris:20260412T140000
DTEND;TZID=Europe/Paris:20260412T180000
DTSTAMP:20260106T204547Z
URL:https://www.elanroller.fr/events/challenge-roller-course-4/
SUMMARY:Challenge Roller Course
DESCRIPTION:
CATEGORIES:Course
LOCATION:Colliniere\, Rue du Landreau\, Nantes\, 44000\, France
X-APPLE-STRUCTURED-LOCATION;VALUE=URI;X-ADDRESS=Rue du Landreau\, Nantes\, 
 44000\, France;X-APPLE-RADIUS=100;X-TITLE=Colliniere:geo:0,0
END:VEVENT
BEGIN:VTIMEZONE
TZID:Europe/Paris
X-LIC-LOCATION:Europe/Paris
BEGIN:DAYLIGHT
DTSTART:20260329T030000
TZOFFSETFROM:+0100
TZOFFSETTO:+0200
TZNAME:CEST
END:DAYLIGHT
END:VTIMEZONE
END:VCALENDAR