BEGIN:VCALENDAR
VERSION:2.0
PRODID:-//wp-events-plugin.com//7.2.3.1//EN
TZID:Europe/Paris
X-WR-TIMEZONE:Europe/Paris
BEGIN:VEVENT
UID:248@elanroller.fr
DTSTART;TZID=Europe/Paris:20260530T140000
DTEND;TZID=Europe/Paris:20260530T180000
DTSTAMP:20251130T200129Z
URL:https://www.elanroller.fr/events/challenge-roller-course-5/
SUMMARY:Challenge Roller Course
DESCRIPTION:
CATEGORIES:Course
LOCATION:Ensemble sportif Bellestre\, Bouaye\, Rue du stade\, Bouaye\, Fran
 ce
X-APPLE-STRUCTURED-LOCATION;VALUE=URI;X-ADDRESS=Rue du stade\, Bouaye\, Fra
 nce;X-APPLE-RADIUS=100;X-TITLE=Ensemble sportif Bellestre\, Bouaye:geo:0,0
END:VEVENT
BEGIN:VTIMEZONE
TZID:Europe/Paris
X-LIC-LOCATION:Europe/Paris
BEGIN:DAYLIGHT
DTSTART:20260329T030000
TZOFFSETFROM:+0100
TZOFFSETTO:+0200
TZNAME:CEST
END:DAYLIGHT
END:VTIMEZONE
END:VCALENDAR