BEGIN:VCALENDAR
VERSION:2.0
PRODID:-//wp-events-plugin.com//7.2.3.1//EN
TZID:Europe/Paris
X-WR-TIMEZONE:Europe/Paris
BEGIN:VEVENT
UID:23@elanroller.fr
DTSTART;TZID=Europe/Paris:20180128T130000
DTEND;TZID=Europe/Paris:20180128T170000
DTSTAMP:20171220T225751Z
URL:https://www.elanroller.fr/events/challenge-vitesse-2/
SUMMARY:Challenge vitesse
DESCRIPTION:
CATEGORIES:Course,Ecole
LOCATION:Salle omnisports Patrick-Dufief\, Boulevard Paul-Langevin\, Couero
 n\, France
GEO:47.2137175;-1.7226891999999907
X-APPLE-STRUCTURED-LOCATION;VALUE=URI;X-ADDRESS=Boulevard Paul-Langevin\, C
 oueron\, France;X-APPLE-RADIUS=100;X-TITLE=Salle omnisports Patrick-Dufief
 :geo:47.2137175,-1.7226891999999907
END:VEVENT
BEGIN:VTIMEZONE
TZID:Europe/Paris
X-LIC-LOCATION:Europe/Paris
BEGIN:STANDARD
DTSTART:20171029T020000
TZOFFSETFROM:+0200
TZOFFSETTO:+0100
TZNAME:CET
END:STANDARD
END:VTIMEZONE
END:VCALENDAR