BEGIN:VCALENDAR
VERSION:2.0
PRODID:-//wp-events-plugin.com//7.2.3.1//EN
TZID:Europe/Paris
X-WR-TIMEZONE:Europe/Paris
BEGIN:VEVENT
UID:24@elanroller.fr
DTSTART;TZID=Europe/Paris:20180318T130000
DTEND;TZID=Europe/Paris:20180318T170000
DTSTAMP:20180115T231815Z
URL:https://www.elanroller.fr/events/challenge-vitesse-3/
SUMMARY:Challenge vitesse
DESCRIPTION:
CATEGORIES:Course,Ecole
LOCATION:Rezé\, gymnase Dugast\, 22 boulevard Jean Monet\, Rezé\, France
GEO:47.1656023;-1.5461529000000382
X-APPLE-STRUCTURED-LOCATION;VALUE=URI;X-ADDRESS=22 boulevard Jean Monet\, R
 ezé\, France;X-APPLE-RADIUS=100;X-TITLE=Rezé\, gymnase Dugast:geo:47.165
 6023,-1.5461529000000382
END:VEVENT
BEGIN:VTIMEZONE
TZID:Europe/Paris
X-LIC-LOCATION:Europe/Paris
BEGIN:STANDARD
DTSTART:20171029T020000
TZOFFSETFROM:+0200
TZOFFSETTO:+0100
TZNAME:CET
END:STANDARD
END:VTIMEZONE
END:VCALENDAR