BEGIN:VCALENDAR
VERSION:2.0
PRODID:-//wp-events-plugin.com//7.2.3.1//EN
TZID:Europe/Paris
X-WR-TIMEZONE:Europe/Paris
BEGIN:VEVENT
UID:85@elanroller.fr
DTSTART;TZID=Europe/Paris;VALUE=DATE:20190323
DTEND;TZID=Europe/Paris;VALUE=DATE:20190324
DTSTAMP:20181218T201731Z
URL:https://www.elanroller.fr/events/championnat-departemental-course/
SUMMARY:Championnat départemental course
DESCRIPTION:
CATEGORIES:Course
LOCATION:Fay de Bretagne\, Rue des sports\, Fay de Bretagne\, France
GEO:47.408993;-1.7918420999999398
X-APPLE-STRUCTURED-LOCATION;VALUE=URI;X-ADDRESS=Rue des sports\, Fay de Bre
 tagne\, France;X-APPLE-RADIUS=100;X-TITLE=Fay de Bretagne:geo:47.408993,-1
 .7918420999999398
END:VEVENT
BEGIN:VTIMEZONE
TZID:Europe/Paris
X-LIC-LOCATION:Europe/Paris
BEGIN:STANDARD
DTSTART:20181028T020000
TZOFFSETFROM:+0200
TZOFFSETTO:+0100
TZNAME:CET
END:STANDARD
END:VTIMEZONE
END:VCALENDAR