BEGIN:VCALENDAR
VERSION:2.0
PRODID:-//wp-events-plugin.com//7.2.3.1//EN
TZID:Europe/Paris
X-WR-TIMEZONE:Europe/Paris
BEGIN:VEVENT
UID:223@elanroller.fr
DTSTART;TZID=Europe/Paris:20250906T140000
DTEND;TZID=Europe/Paris:20250906T170000
DTSTAMP:20250827T193811Z
URL:https://www.elanroller.fr/events/forum-des-associations-4/
SUMMARY:Forum des associations
DESCRIPTION:
CATEGORIES:Club
LOCATION:Gymnase Jules Léauté\, Rue des Papillons\, Les Sorinières\, Fra
 nce
X-APPLE-STRUCTURED-LOCATION;VALUE=URI;X-ADDRESS=Rue des Papillons\, Les Sor
 inières\, France;X-APPLE-RADIUS=100;X-TITLE=Gymnase Jules Léauté:geo:0,
 0
END:VEVENT
BEGIN:VTIMEZONE
TZID:Europe/Paris
X-LIC-LOCATION:Europe/Paris
BEGIN:DAYLIGHT
DTSTART:20250330T030000
TZOFFSETFROM:+0100
TZOFFSETTO:+0200
TZNAME:CEST
END:DAYLIGHT
END:VTIMEZONE
END:VCALENDAR