BEGIN:VCALENDAR
VERSION:2.0
PRODID:-//wp-events-plugin.com//7.2.3.1//EN
TZID:Europe/Paris
X-WR-TIMEZONE:Europe/Paris
BEGIN:VEVENT
UID:242@elanroller.fr
DTSTART;TZID=Europe/Paris:20260308T133000
DTEND;TZID=Europe/Paris:20260308T180000
DTSTAMP:20251126T193401Z
URL:https://www.elanroller.fr/events/kids-roller-20/
SUMMARY:Kid's Roller
DESCRIPTION:
CATEGORIES:Ecole
LOCATION:Salle Joachim Marnier\, Rue des Papillons\, Sorinieres\, France
X-APPLE-STRUCTURED-LOCATION;VALUE=URI;X-ADDRESS=Rue des Papillons\, Sorinie
 res\, France;X-APPLE-RADIUS=100;X-TITLE=Salle Joachim Marnier:geo:0,0
END:VEVENT
BEGIN:VTIMEZONE
TZID:Europe/Paris
X-LIC-LOCATION:Europe/Paris
BEGIN:STANDARD
DTSTART:20251026T020000
TZOFFSETFROM:+0200
TZOFFSETTO:+0100
TZNAME:CET
END:STANDARD
END:VTIMEZONE
END:VCALENDAR