BEGIN:VCALENDAR
VERSION:2.0
PRODID:-//wp-events-plugin.com//7.2.3.1//EN
TZID:Europe/Paris
X-WR-TIMEZONE:Europe/Paris
BEGIN:VEVENT
UID:240@elanroller.fr
DTSTART;TZID=Europe/Paris:20251220T000000
DTEND;TZID=Europe/Paris:20251220T000000
DTSTAMP:20251022T203813Z
URL:https://www.elanroller.fr/events/randonnee-a-pornichet/
SUMMARY:Randonnée à Pornichet
DESCRIPTION:
CATEGORIES:Endurance,Loisirs
END:VEVENT
BEGIN:VTIMEZONE
TZID:Europe/Paris
X-LIC-LOCATION:Europe/Paris
BEGIN:STANDARD
DTSTART:20251026T020000
TZOFFSETFROM:+0200
TZOFFSETTO:+0100
TZNAME:CET
END:STANDARD
END:VTIMEZONE
END:VCALENDAR