BEGIN:VCALENDAR
VERSION:2.0
PRODID:-//wp-events-plugin.com//7.2.3.1//EN
TZID:Europe/Paris
X-WR-TIMEZONE:Europe/Paris
BEGIN:VEVENT
UID:250@elanroller.fr
DTSTART;TZID=Europe/Paris:20251207T100000
DTEND;TZID=Europe/Paris:20251207T120000
DTSTAMP:20251129T174626Z
URL:https://www.elanroller.fr/events/randonnee-roller-2/
SUMMARY:Randonnée roller
DESCRIPTION:
CATEGORIES:Loisirs
LOCATION:René Massé\, Boulevard des pas enchantés\, Saint Sébastien sur
  Loire\, France
X-APPLE-STRUCTURED-LOCATION;VALUE=URI;X-ADDRESS=Boulevard des pas enchanté
 s\, Saint Sébastien sur Loire\, France;X-APPLE-RADIUS=100;X-TITLE=René M
 assé:geo:0,0
END:VEVENT
BEGIN:VTIMEZONE
TZID:Europe/Paris
X-LIC-LOCATION:Europe/Paris
BEGIN:STANDARD
DTSTART:20251026T020000
TZOFFSETFROM:+0200
TZOFFSETTO:+0100
TZNAME:CET
END:STANDARD
END:VTIMEZONE
END:VCALENDAR